BEGIN:VCALENDAR
VERSION:2.0
PRODID:-//Old Avalon Golf Course - ECPv6.15.20//NONSGML v1.0//EN
CALSCALE:GREGORIAN
METHOD:PUBLISH
X-ORIGINAL-URL:https://golfoldavalon.com
X-WR-CALDESC:Events for Old Avalon Golf Course
REFRESH-INTERVAL;VALUE=DURATION:PT1H
X-Robots-Tag:noindex
X-PUBLISHED-TTL:PT1H
BEGIN:VTIMEZONE
TZID:America/New_York
BEGIN:DAYLIGHT
TZOFFSETFROM:-0500
TZOFFSETTO:-0400
TZNAME:EDT
DTSTART:20250309T070000
END:DAYLIGHT
BEGIN:STANDARD
TZOFFSETFROM:-0400
TZOFFSETTO:-0500
TZNAME:EST
DTSTART:20251102T060000
END:STANDARD
BEGIN:DAYLIGHT
TZOFFSETFROM:-0500
TZOFFSETTO:-0400
TZNAME:EDT
DTSTART:20260308T070000
END:DAYLIGHT
BEGIN:STANDARD
TZOFFSETFROM:-0400
TZOFFSETTO:-0500
TZNAME:EST
DTSTART:20261101T060000
END:STANDARD
BEGIN:DAYLIGHT
TZOFFSETFROM:-0500
TZOFFSETTO:-0400
TZNAME:EDT
DTSTART:20270314T070000
END:DAYLIGHT
BEGIN:STANDARD
TZOFFSETFROM:-0400
TZOFFSETTO:-0500
TZNAME:EST
DTSTART:20271107T060000
END:STANDARD
END:VTIMEZONE
BEGIN:VEVENT
DTSTART;TZID=America/New_York:20260508T140000
DTEND;TZID=America/New_York:20260508T180000
DTSTAMP:20260422T132544
CREATED:20260409T152122Z
LAST-MODIFIED:20260409T152122Z
UID:15656-1778248800-1778263200@golfoldavalon.com
SUMMARY:Tour Edge Demo Day
DESCRIPTION:Stop out from 2:00 – 6:00PM on Friday May 8th to test the new  2026 Tour Edge Hot Launch and Exotics clubs.  Click on the link to book a time with us if you prefer! https://www.touredge.com/pages/dealer-locator-1
URL:https://golfoldavalon.com/event/tour-edge-demo-day-4/
LOCATION:Old Avalon Golf Course\, 9794 E. Market St.\, Warren\, OH\, 44484\, United States
END:VEVENT
END:VCALENDAR