BEGIN:VCALENDAR
VERSION:2.0
PRODID:-//Old Avalon Golf Course - ECPv6.15.20//NONSGML v1.0//EN
CALSCALE:GREGORIAN
METHOD:PUBLISH
X-WR-CALNAME:Old Avalon Golf Course
X-ORIGINAL-URL:https://golfoldavalon.com
X-WR-CALDESC:Events for Old Avalon Golf Course
REFRESH-INTERVAL;VALUE=DURATION:PT1H
X-Robots-Tag:noindex
X-PUBLISHED-TTL:PT1H
BEGIN:VTIMEZONE
TZID:America/New_York
BEGIN:DAYLIGHT
TZOFFSETFROM:-0500
TZOFFSETTO:-0400
TZNAME:EDT
DTSTART:20230312T070000
END:DAYLIGHT
BEGIN:STANDARD
TZOFFSETFROM:-0400
TZOFFSETTO:-0500
TZNAME:EST
DTSTART:20231105T060000
END:STANDARD
BEGIN:DAYLIGHT
TZOFFSETFROM:-0500
TZOFFSETTO:-0400
TZNAME:EDT
DTSTART:20240310T070000
END:DAYLIGHT
BEGIN:STANDARD
TZOFFSETFROM:-0400
TZOFFSETTO:-0500
TZNAME:EST
DTSTART:20241103T060000
END:STANDARD
BEGIN:DAYLIGHT
TZOFFSETFROM:-0500
TZOFFSETTO:-0400
TZNAME:EDT
DTSTART:20250309T070000
END:DAYLIGHT
BEGIN:STANDARD
TZOFFSETFROM:-0400
TZOFFSETTO:-0500
TZNAME:EST
DTSTART:20251102T060000
END:STANDARD
BEGIN:DAYLIGHT
TZOFFSETFROM:-0500
TZOFFSETTO:-0400
TZNAME:EDT
DTSTART:20260308T070000
END:DAYLIGHT
BEGIN:STANDARD
TZOFFSETFROM:-0400
TZOFFSETTO:-0500
TZNAME:EST
DTSTART:20261101T060000
END:STANDARD
BEGIN:DAYLIGHT
TZOFFSETFROM:-0500
TZOFFSETTO:-0400
TZNAME:EDT
DTSTART:20270314T070000
END:DAYLIGHT
BEGIN:STANDARD
TZOFFSETFROM:-0400
TZOFFSETTO:-0500
TZNAME:EST
DTSTART:20271107T060000
END:STANDARD
END:VTIMEZONE
BEGIN:VEVENT
DTSTART;TZID=America/New_York:20260228T100000
DTEND;TZID=America/New_York:20260228T150000
DTSTAMP:20260422T104015
CREATED:20260105T141846Z
LAST-MODIFIED:20260217T173646Z
UID:15467-1772272800-1772290800@golfoldavalon.com
SUMMARY:2026 Chili Opener
DESCRIPTION:The date for our 2026 Chili Opener is set for Saturday February 28th.  The event is a 9-hole two-person scramble.  Tee times will be from 10:00AM – 3:00PM.  Stop by or call the golf shop at (330)856-1063 to sign up your team.
URL:https://golfoldavalon.com/event/2026-chili-opener/
LOCATION:Old Avalon Golf Course\, 9794 E. Market St.\, Warren\, OH\, 44484\, United States
END:VEVENT
BEGIN:VEVENT
DTSTART;TZID=America/New_York:20260101T000000
DTEND;TZID=America/New_York:20260101T235959
DTSTAMP:20260422T104015
CREATED:20251205T135739Z
LAST-MODIFIED:20251205T135739Z
UID:15396-1767225600-1767311999@golfoldavalon.com
SUMMARY:Happy New Year 2026!
DESCRIPTION:
URL:https://golfoldavalon.com/event/happy-new-year-2026/
LOCATION:Old Avalon Golf Course\, 9794 E. Market St.\, Warren\, OH\, 44484\, United States
END:VEVENT
BEGIN:VEVENT
DTSTART;TZID=America/New_York:20251225T000000
DTEND;TZID=America/New_York:20251225T235959
DTSTAMP:20260422T104015
CREATED:20251205T135624Z
LAST-MODIFIED:20251205T135624Z
UID:15393-1766620800-1766707199@golfoldavalon.com
SUMMARY:Merry Christmas!
DESCRIPTION:
URL:https://golfoldavalon.com/event/merry-christmas/
LOCATION:Old Avalon Golf Course\, 9794 E. Market St.\, Warren\, OH\, 44484\, United States
END:VEVENT
BEGIN:VEVENT
DTSTART;TZID=America/New_York:20251212T160000
DTEND;TZID=America/New_York:20251212T190000
DTSTAMP:20260422T104015
CREATED:20251124T204005Z
LAST-MODIFIED:20251124T204105Z
UID:15334-1765555200-1765566000@golfoldavalon.com
SUMMARY:Crystals for Critters Jewelry Party presented by Animal Pawtectors
DESCRIPTION:Mark you calendar for the biggest jewelry sale of the year for Animal Pawtectors at Old Avalon!
URL:https://golfoldavalon.com/event/crystals-for-critters-jewelry-party-presented-by-animal-pawtectors/
LOCATION:Old Avalon Golf Course\, 9794 E. Market St.\, Warren\, OH\, 44484\, United States
END:VEVENT
BEGIN:VEVENT
DTSTART;TZID=America/New_York:20251124T080000
DTEND;TZID=America/New_York:20251223T150000
DTSTAMP:20260422T104015
CREATED:20251130T133139Z
LAST-MODIFIED:20251130T133139Z
UID:15368-1763971200-1766502000@golfoldavalon.com
SUMMARY:7th Annual Holiday Golf Shop Sale
DESCRIPTION:Our 7th Annual Holiday Sale has begun for the Christmas gift buying season!  All men’s and women’s golf apparel\, golf shoes\, clubs\, bags and more are all on sale. \nDon’t forget gift cards with a holiday bonus! \n \n  \n  \n  \n  \n  \n  \n  \nPurchase a gift card during our holiday sale and receive 20% more value!  \nBuy a $50 gift card and receive $60.  \n(Gift card bonus available when purchased at the golf course only.)
URL:https://golfoldavalon.com/event/7th-annual-holiday-golf-shop-sale/
LOCATION:Old Avalon Golf Course\, 9794 E. Market St.\, Warren\, OH\, 44484\, United States
END:VEVENT
BEGIN:VEVENT
DTSTART;TZID=America/New_York:20251011T090000
DTEND;TZID=America/New_York:20251011T140000
DTSTAMP:20260422T104015
CREATED:20250503T205029Z
LAST-MODIFIED:20250609T104058Z
UID:15221-1760173200-1760191200@golfoldavalon.com
SUMMARY:Austintown Fitch Concert Choir Classic
DESCRIPTION:
URL:https://golfoldavalon.com/event/austintown-fitch-concert-choir-classic/
LOCATION:Old Avalon Golf Course\, 9794 E. Market St.\, Warren\, OH\, 44484\, United States
END:VEVENT
BEGIN:VEVENT
DTSTART;TZID=America/New_York:20251001T093000
DTEND;TZID=America/New_York:20251001T150000
DTSTAMP:20260422T104015
CREATED:20240311T212020Z
LAST-MODIFIED:20250503T205203Z
UID:14517-1759311000-1759330800@golfoldavalon.com
SUMMARY:Girls' Division I Sectional Tournament
DESCRIPTION:
URL:https://golfoldavalon.com/event/girls-division-i-sectional-tournament/
LOCATION:Old Avalon Golf Course\, 9794 E. Market St.\, Warren\, OH\, 44484\, United States
END:VEVENT
BEGIN:VEVENT
DTSTART;TZID=America/New_York:20250927T093000
DTEND;TZID=America/New_York:20250927T133000
DTSTAMP:20260422T104015
CREATED:20250818T144709Z
LAST-MODIFIED:20250903T132405Z
UID:15273-1758965400-1758979800@golfoldavalon.com
SUMMARY:Fall Three Amateur Scramble
DESCRIPTION:Our annual Fall Three Amateur Scramble has been set for Saturday September 27th.  Start is a 9:30AM shotgun.  Two teams will be paired together for scoring integrity. \nClick on the following link for more tournament information. 3amateurscramble2025
URL:https://golfoldavalon.com/event/fall-three-amateur-scramble/
LOCATION:Old Avalon Golf Course\, 9794 E. Market St.\, Warren\, OH\, 44484\, United States
END:VEVENT
BEGIN:VEVENT
DTSTART;TZID=America/New_York:20250906T100000
DTEND;TZID=America/New_York:20250906T150000
DTSTAMP:20260422T104015
CREATED:20230508T114400Z
LAST-MODIFIED:20250420T092952Z
UID:13913-1757152800-1757170800@golfoldavalon.com
SUMMARY:Ross Griffin Memorial Golf Outing
DESCRIPTION:
URL:https://golfoldavalon.com/event/ross-griffin-memorial-golf-outing/
LOCATION:Old Avalon Golf Course\, 9794 E. Market St.\, Warren\, OH\, 44484\, United States
END:VEVENT
BEGIN:VEVENT
DTSTART;TZID=America/New_York:20250905T100000
DTEND;TZID=America/New_York:20250905T150000
DTSTAMP:20260422T104015
CREATED:20240311T211833Z
LAST-MODIFIED:20250503T204503Z
UID:14514-1757066400-1757084400@golfoldavalon.com
SUMMARY:ACTION Golf Outing
DESCRIPTION:
URL:https://golfoldavalon.com/event/action-golf-outing-2/
LOCATION:Old Avalon Golf Course\, 9794 E. Market St.\, Warren\, OH\, 44484\, United States
END:VEVENT
BEGIN:VEVENT
DTSTART;TZID=America/New_York:20250830T090000
DTEND;TZID=America/New_York:20250830T140000
DTSTAMP:20260422T104015
CREATED:20240311T210852Z
LAST-MODIFIED:20250503T203650Z
UID:14499-1756544400-1756562400@golfoldavalon.com
SUMMARY:2nd Annual Howland FOP Lodge 163 Golf Outing
DESCRIPTION:
URL:https://golfoldavalon.com/event/howland-fop-lodge-163-inaugural-golf-outing/
LOCATION:Old Avalon Golf Course\, 9794 E. Market St.\, Warren\, OH\, 44484\, United States
END:VEVENT
BEGIN:VEVENT
DTSTART;TZID=America/New_York:20250816T083000
DTEND;TZID=America/New_York:20250816T133000
DTSTAMP:20260422T104015
CREATED:20240311T210737Z
LAST-MODIFIED:20250503T202340Z
UID:14496-1755333000-1755351000@golfoldavalon.com
SUMMARY:Ali Baba Grotto Golf Outing
DESCRIPTION:
URL:https://golfoldavalon.com/event/ali-baba-grotto-golf-outing/
LOCATION:Old Avalon Golf Course\, 9794 E. Market St.\, Warren\, OH\, 44484\, United States
END:VEVENT
BEGIN:VEVENT
DTSTART;TZID=America/New_York:20250805T090000
DTEND;TZID=America/New_York:20250805T140000
DTSTAMP:20260422T104015
CREATED:20240311T211624Z
LAST-MODIFIED:20250503T201815Z
UID:14511-1754384400-1754402400@golfoldavalon.com
SUMMARY:Howland High School Tiger Invitational
DESCRIPTION:
URL:https://golfoldavalon.com/event/howland-high-school-invitational/
LOCATION:Old Avalon Golf Course\, 9794 E. Market St.\, Warren\, OH\, 44484\, United States
END:VEVENT
BEGIN:VEVENT
DTSTART;TZID=America/New_York:20250802T080000
DTEND;TZID=America/New_York:20250802T130000
DTSTAMP:20260422T104015
CREATED:20240311T210302Z
LAST-MODIFIED:20250428T005012Z
UID:14487-1754121600-1754139600@golfoldavalon.com
SUMMARY:Howland Tiger Booster Golf Outing
DESCRIPTION:
URL:https://golfoldavalon.com/event/howland-tiger-booster-golf-outing/
LOCATION:Old Avalon Golf Course\, 9794 E. Market St.\, Warren\, OH\, 44484\, United States
END:VEVENT
BEGIN:VEVENT
DTSTART;TZID=America/New_York:20250801T090000
DTEND;TZID=America/New_York:20250801T140000
DTSTAMP:20260422T104015
CREATED:20250428T004429Z
LAST-MODIFIED:20250428T004429Z
UID:15186-1754038800-1754056800@golfoldavalon.com
SUMMARY:Trumbull County Mental Health Recovery Board Golf Outing
DESCRIPTION:
URL:https://golfoldavalon.com/event/trumbull-county-mental-health-recovery-board-golf-outing/
LOCATION:OH
END:VEVENT
BEGIN:VEVENT
DTSTART;TZID=America/New_York:20250721T100000
DTEND;TZID=America/New_York:20250721T150000
DTSTAMP:20260422T104015
CREATED:20230508T112210Z
LAST-MODIFIED:20250503T203038Z
UID:13892-1753092000-1753110000@golfoldavalon.com
SUMMARY:Vernon's Cafe Golf Outing
DESCRIPTION:
URL:https://golfoldavalon.com/event/vernons-cafe-golf-outing-2/
LOCATION:Old Avalon Golf Course\, 9794 E. Market St.\, Warren\, OH\, 44484\, United States
END:VEVENT
BEGIN:VEVENT
DTSTART;TZID=America/New_York:20250720T093000
DTEND;TZID=America/New_York:20250720T140000
DTSTAMP:20260422T104015
CREATED:20240311T210431Z
LAST-MODIFIED:20250503T201406Z
UID:14490-1753003800-1753020000@golfoldavalon.com
SUMMARY:Chris Macaulay Memorial Outing
DESCRIPTION:
URL:https://golfoldavalon.com/event/chris-macaulay-memorial-outing-2/
LOCATION:Old Avalon Golf Course\, 9794 E. Market St.\, Warren\, OH\, 44484\, United States
END:VEVENT
BEGIN:VEVENT
DTSTART;TZID=America/New_York:20250719T130000
DTEND;TZID=America/New_York:20250719T180000
DTSTAMP:20260422T104015
CREATED:20240311T205257Z
LAST-MODIFIED:20250428T004312Z
UID:14481-1752930000-1752948000@golfoldavalon.com
SUMMARY:Neil Buzzacco Memorial Golf Outing
DESCRIPTION:
URL:https://golfoldavalon.com/event/neil-buzzacco-memorial-golf-outing-3/
LOCATION:Old Avalon Golf Course\, 9794 E. Market St.\, Warren\, OH\, 44484\, United States
END:VEVENT
BEGIN:VEVENT
DTSTART;TZID=America/New_York:20250718T080000
DTEND;TZID=America/New_York:20250718T130000
DTSTAMP:20260422T104015
CREATED:20240311T210033Z
LAST-MODIFIED:20250428T004655Z
UID:14484-1752825600-1752843600@golfoldavalon.com
SUMMARY:Howland Firefighters Golf Outing
DESCRIPTION:
URL:https://golfoldavalon.com/event/howland-firefighters-golf-outing/
LOCATION:Old Avalon Golf Course\, 9794 E. Market St.\, Warren\, OH\, 44484\, United States
END:VEVENT
BEGIN:VEVENT
DTSTART;TZID=America/New_York:20250712T093000
DTEND;TZID=America/New_York:20250712T143000
DTSTAMP:20260422T104015
CREATED:20230510T131242Z
LAST-MODIFIED:20250428T004020Z
UID:13930-1752312600-1752330600@golfoldavalon.com
SUMMARY:Second Baptist Church Golf Outing
DESCRIPTION:
URL:https://golfoldavalon.com/event/second-baptist-church-golf-outing/
LOCATION:Old Avalon Golf Course\, 9794 E. Market St.\, Warren\, OH\, 44484\, United States
END:VEVENT
BEGIN:VEVENT
DTSTART;TZID=America/New_York:20250708T080000
DTEND;TZID=America/New_York:20250708T153000
DTSTAMP:20260422T104015
CREATED:20240317T100903Z
LAST-MODIFIED:20250503T203218Z
UID:14532-1751961600-1751988600@golfoldavalon.com
SUMMARY:Northern Ohio PGA Junior Tournament Sponsored by Paige & Byrnes Insurance
DESCRIPTION:Paige & Byrnes and Old Avalon will be hosting the Northern Ohio PGA Junior Tour to honor Mr. Bob Woodfin\, longtime PGA Head Professional at Trumbull Country Club who passed away in 2012.
URL:https://golfoldavalon.com/event/northern-ohio-pga-junior-tournament-sponsored-by-paige-byrnes-insurance/
LOCATION:Old Avalon Golf Course\, 9794 E. Market St.\, Warren\, OH\, 44484\, United States
END:VEVENT
BEGIN:VEVENT
DTSTART;TZID=America/New_York:20250628T090000
DTEND;TZID=America/New_York:20250628T140000
DTSTAMP:20260422T104015
CREATED:20250503T194918Z
LAST-MODIFIED:20250503T201257Z
UID:15201-1751101200-1751119200@golfoldavalon.com
SUMMARY:1st Annual Terry Vandergrift Memorial Outing
DESCRIPTION:
URL:https://golfoldavalon.com/event/1st-annual-terry-vandergrift-memorial-outing/
LOCATION:Old Avalon Golf Course\, 9794 E. Market St.\, Warren\, OH\, 44484\, United States
END:VEVENT
BEGIN:VEVENT
DTSTART;TZID=America/New_York:20250621T090000
DTEND;TZID=America/New_York:20250621T140000
DTSTAMP:20260422T104015
CREATED:20240311T204819Z
LAST-MODIFIED:20250428T003835Z
UID:14475-1750496400-1750514400@golfoldavalon.com
SUMMARY:Les Tabor Memorial Scholarship Golf Outing
DESCRIPTION:
URL:https://golfoldavalon.com/event/les-tabor-memorial-scholarship-golf-outing/
LOCATION:Old Avalon Golf Course\, 9794 E. Market St.\, Warren\, OH\, 44484\, United States
END:VEVENT
BEGIN:VEVENT
DTSTART;TZID=America/New_York:20250620T140000
DTEND;TZID=America/New_York:20250620T180000
DTSTAMP:20260422T104015
CREATED:20240408T204752Z
LAST-MODIFIED:20250530T213717Z
UID:14643-1750428000-1750442400@golfoldavalon.com
SUMMARY:Tour Edge Demo & Fitting Event
DESCRIPTION:Try out the latest equipment that Tour Edge has to offer for 2025.  This event was rescheduled from May 23rd.
URL:https://golfoldavalon.com/event/tour-edge-demo-day-3/
LOCATION:Old Avalon Golf Course\, 9794 E. Market St.\, Warren\, OH\, 44484\, United States
END:VEVENT
BEGIN:VEVENT
DTSTART;TZID=America/New_York:20250619T080000
DTEND;TZID=America/New_York:20250619T110000
DTSTAMP:20260422T104015
CREATED:20250503T203425Z
LAST-MODIFIED:20250503T203425Z
UID:15215-1750320000-1750330800@golfoldavalon.com
SUMMARY:Greatest Junior of the Valley Tournament
DESCRIPTION:
URL:https://golfoldavalon.com/event/greatest-junior-of-the-valley-tournament/
LOCATION:Old Avalon Golf Course\, 9794 E. Market St.\, Warren\, OH\, 44484\, United States
END:VEVENT
BEGIN:VEVENT
DTSTART;TZID=America/New_York:20250301T100000
DTEND;TZID=America/New_York:20250301T150000
DTSTAMP:20260422T104015
CREATED:20250128T165652Z
LAST-MODIFIED:20250219T134302Z
UID:14984-1740823200-1740841200@golfoldavalon.com
SUMMARY:2025 Chili Opener
DESCRIPTION:Play 9 holes in our Two Person Scramble event on Saturday March 1st.  Tee times are from 10:00AM – 3:00PM.  Enjoy homemade chili after your round in the clubhouse.  Prizes will be awarded to the top 5 team gross scores (based on 30 teams entered).  Eight team prizes were awarded in 2024.  Closest to the pin on par 3s will be awarded as well.  Cost is $25/player which includes 9 holes w/cart\, chili with plenty of toppings\, and prizes. Optional skins game for $5/player will be available.  Play an extra 9 holes after your event round for just $12 more per person.  Call the golf shop at (330)856-1063 to enter.
URL:https://golfoldavalon.com/event/2025-chili-opener/
LOCATION:Old Avalon Golf Course\, 9794 E. Market St.\, Warren\, OH\, 44484\, United States
END:VEVENT
BEGIN:VEVENT
DTSTART;TZID=America/New_York:20241213T160000
DTEND;TZID=America/New_York:20241213T190000
DTSTAMP:20260422T104015
CREATED:20241113T130313Z
LAST-MODIFIED:20241130T141123Z
UID:14909-1734105600-1734116400@golfoldavalon.com
SUMMARY:Crystals For Critters Jewelry Party
DESCRIPTION:Screenshot \nScreenshot \nOur annual Crystals For Critters jewelry party is set again this year for Friday December 13th in the Old Avalon clubhouse.  Proceeds will benefit Animal Pawtectors to help those animals in need.  New this year is a bourbon raffle with the winners drawn at the jewelry party on December 13th.  Chances to win can be purchased by using the methods listed on the flyer.
URL:https://golfoldavalon.com/event/crystals-for-critters-jewelry-party-2/
LOCATION:Old Avalon Golf Course\, 9794 E. Market St.\, Warren\, OH\, 44484\, United States
END:VEVENT
BEGIN:VEVENT
DTSTART;TZID=America/New_York:20240928T093000
DTEND;TZID=America/New_York:20240928T143000
DTSTAMP:20260422T104015
CREATED:20240825T142532Z
LAST-MODIFIED:20240901T144533Z
UID:14823-1727515800-1727533800@golfoldavalon.com
SUMMARY:Three Amateur Autumn Scramble
DESCRIPTION:Our Three Amateur Scramble is set for Saturday September 28th. Start will be a 9:30AM shotgun. Call the golf shop at (330) 856-1063 or click here for tournament information.
URL:https://golfoldavalon.com/event/three-amateur-autumn-scramble/
LOCATION:Old Avalon Golf Course\, 9794 E. Market St.\, Warren\, OH\, 44484\, United States
END:VEVENT
BEGIN:VEVENT
DTSTART;TZID=America/New_York:20240915T150000
DTEND;TZID=America/New_York:20240915T173000
DTSTAMP:20260422T104015
CREATED:20240315T113018Z
LAST-MODIFIED:20240315T113018Z
UID:14527-1726412400-1726421400@golfoldavalon.com
SUMMARY:Special Olympics Golf Outing
DESCRIPTION:
URL:https://golfoldavalon.com/event/special-olympics-golf-outing-2/
LOCATION:Old Avalon Golf Course\, 9794 E. Market St.\, Warren\, OH\, 44484\, United States
END:VEVENT
BEGIN:VEVENT
DTSTART;TZID=America/New_York:20240914T093000
DTEND;TZID=America/New_York:20240914T143000
DTSTAMP:20260422T104015
CREATED:20240311T211248Z
LAST-MODIFIED:20240311T211248Z
UID:14508-1726306200-1726324200@golfoldavalon.com
SUMMARY:Purple Hearts Veterans Memorial Outing
DESCRIPTION:
URL:https://golfoldavalon.com/event/purple-hearts-veterans-memorial-outing/
LOCATION:Old Avalon Golf Course\, 9794 E. Market St.\, Warren\, OH\, 44484\, United States
END:VEVENT
END:VCALENDAR